BEGIN:VCALENDAR
VERSION:2.0
PRODID:-//Max Business Profits - ECPv6.15.20//NONSGML v1.0//EN
CALSCALE:GREGORIAN
METHOD:PUBLISH
X-WR-CALNAME:Max Business Profits
X-ORIGINAL-URL:https://maxbusinessprofits.com
X-WR-CALDESC:Events for Max Business Profits
REFRESH-INTERVAL;VALUE=DURATION:PT1H
X-Robots-Tag:noindex
X-PUBLISHED-TTL:PT1H
BEGIN:VTIMEZONE
TZID:UTC
BEGIN:STANDARD
TZOFFSETFROM:+0000
TZOFFSETTO:+0000
TZNAME:UTC
DTSTART:20240101T000000
END:STANDARD
END:VTIMEZONE
BEGIN:VEVENT
DTSTART;TZID=UTC:20250522T090000
DTEND;TZID=UTC:20250522T170000
DTSTAMP:20260423T163240
CREATED:20250508T174852Z
LAST-MODIFIED:20250508T174852Z
UID:3751-1747904400-1747933200@maxbusinessprofits.com
SUMMARY:The BEST Small Business Event of 2025 for your business!
DESCRIPTION:Learn. Grow. Profit.\n📅 Date: Thursday\, May 22nd\, 2025🕘 Time: 9:00 AM – 5:00 PM📍 Location: Hyatt Place @ the Forum\, 2600 Champion Ring Rd\, Ft. Myers\, FL 33905🎟️ Seating: Limited to the first 50 registrants only! \n\nWhy You Can’t Miss This Event\nSkip this and your competition might just leave you behind. \nJoin top business experts and walk away with real\, actionable strategies to immediately boost your bottom line — no fluff\, no hypotheticals. \n✅ Discover how to accelerate your profits now regardless of what you sell✅ Learn to craft magnetic messaging that attracts your perfect clients✅ Get the truth about lead generation and how to do it right✅ Build a business worth selling — understand how to increase value and plan for an exit✅ Find hidden revenue opportunities: Learn how businesses unlock $50K+ without extra ad spend✅ Understand why having an exit strategy now is critical for long-term success \n\n🎤 Meet the Experts\n\n\nSergio DeCesare – Certified Profit & Growth Expert\, Exit Strategist & Business Broker \n\n\nConny Twomey – Digital Marketing Expert & Mindset Coach \n\n\nKevin St. John – Small Business Profit Acceleration Expert \n\n\n\n💬 What Others Are Saying\n\n“I’ve learned more in a couple of hours than in 10 years of running my own business.” – David R. \n\n\n“Everything was practical\, easy to understand\, and proven. These people are the real deal!” – Laura M. \n\n\n💡 Who Should Attend?\n\n\nBusiness owners & entrepreneurs who want to outperform their competition \n\n\nAnyone looking to scale\, optimize\, or prepare their business for sale \n\n\nProfessionals who are serious about profit growth and smart marketing \n\n\n\n🎫 Ready to Transform Your Business?\n👉 CLAIM YOUR SEAT NOW – Space is limited!\nFor questions or more info:📞 Call: (239) 580-7408📧 Email: sergio@maxbusinessprofits.com
URL:https://maxbusinessprofits.com/event/the-best-small-business-event-of-2025-for-your-business/
LOCATION:Hyatt Place\, Hyatt Place @ the Forum 2600 Champion Ring Rd\, Ft Myers\, Florida\, 33905\, FL\, 2600\, United States
CATEGORIES:Event
ATTACH;FMTTYPE=image/jpeg:https://maxbusinessprofits.com/wp-content/uploads/2025/05/iness-Event-of-2025.jpg
END:VEVENT
END:VCALENDAR